BEGIN:VCALENDAR
VERSION:2.0
PRODID:-//Big Radio - ECPv5.6.0//NONSGML v1.0//EN
CALSCALE:GREGORIAN
METHOD:PUBLISH
X-WR-CALNAME:Big Radio
X-ORIGINAL-URL:https://www.bigradio.fm
X-WR-CALDESC:Events for Big Radio
BEGIN:VTIMEZONE
TZID:America/Chicago
BEGIN:DAYLIGHT
TZOFFSETFROM:-0600
TZOFFSETTO:-0500
TZNAME:CDT
DTSTART:20250309T080000
END:DAYLIGHT
BEGIN:STANDARD
TZOFFSETFROM:-0500
TZOFFSETTO:-0600
TZNAME:CST
DTSTART:20251102T070000
END:STANDARD
END:VTIMEZONE
BEGIN:VEVENT
DTSTART;TZID=America/Chicago:20250318T100000
DTEND;TZID=America/Chicago:20250318T110000
DTSTAMP:20260421T181857
CREATED:20250219T144452Z
LAST-MODIFIED:20250219T150229Z
UID:116710-1742292000-1742295600@www.bigradio.fm
SUMMARY:Preschool Storytime
DESCRIPTION:Enjoy stories and crafts every Tuesday at 10 am with our Children’s Programming Specialist\, Miss Laura.
URL:https://www.bigradio.fm/event/preschool-storytime/2025-03-18/
LOCATION:Albertson Memorial Library\, 200 N. Water Street\, Albany\, WI\, 53502\, United States
CATEGORIES:Event
ATTACH;FMTTYPE=image/png:https://dehayf5mhw1h7.cloudfront.net/wp-content/uploads/sites/2455/2025/02/18145010/preschool-storytime-11-x-8-5-in-3.png
ORGANIZER;CN="Albertson%20Memorial%20Library":MAILTO:albertsonlibrary@gmail.com
END:VEVENT
BEGIN:VEVENT
DTSTART;TZID=America/Chicago:20250318T180000
DTEND;TZID=America/Chicago:20250318T210000
DTSTAMP:20260421T181857
CREATED:20250313T150341Z
LAST-MODIFIED:20250313T150341Z
UID:118118-1742320800-1742331600@www.bigradio.fm
SUMMARY:Tuesday Night Bingo
DESCRIPTION:Our Jackpot climbs every week until we get a winner. Our Bingo Caller starts promptly at 6pm. Sales start at 3:30 pm. Enjoy some great food from our Auxiliary: sandwiches\, brats\, desserts\, and more! (No outside food or drink please.)\nProceeds benefit local area veterans.\nVFW Post 1621 is *Always* Open to the Public!
URL:https://www.bigradio.fm/event/tuesday-night-bingo-2/
LOCATION:Kienow-Hilt VFW Post 1621\, 1015 Center Avenue\, Janesville\, WI\, 53546\, United States
ATTACH;FMTTYPE=image/jpeg:https://dehayf5mhw1h7.cloudfront.net/wp-content/uploads/sites/2455/2025/03/12082831/0-advertising-vfw-front-jet-small.jpg
ORGANIZER;CN="VFW%20KIENOW%20HILT%20POST%201621":MAILTO:vfwaux1621@charter.net
END:VEVENT
BEGIN:VEVENT
DTSTART;TZID=America/Chicago:20250319T120000
DTEND;TZID=America/Chicago:20250319T130000
DTSTAMP:20260421T181857
CREATED:20250211T151845Z
LAST-MODIFIED:20250211T151845Z
UID:116448-1742385600-1742389200@www.bigradio.fm
SUMMARY:Asbury Wednesday's Lent Soup and Sandwich Luncheon
DESCRIPTION:Everyone is welcome to join us for our Wednesday’s Lent Soup and Sandwich Luncheon followed by our Lenten service. We have moved our time to Noon this year for our Wednesday’s Soup & Sandwich Luncheon. Our Lenten service will be at 1 p.m. The dates are: March 12\, 19\, 26\, April 2 & 9.
URL:https://www.bigradio.fm/event/asbury-wednesdays-lent-soup-and-sandwich-luncheon/2025-03-19/
LOCATION:ASBURY UNITED METHODIST CHURCH\, 1810 KELLOGG AVENUE\, JANESVILLE\, WI\, 53545\, United States
CATEGORIES:Event
ATTACH;FMTTYPE=image/png:https://dehayf5mhw1h7.cloudfront.net/wp-content/uploads/sites/2455/2025/02/11151845/church-logo.png
GEO:42.6498539;-89.0412454
X-APPLE-STRUCTURED-LOCATION;VALUE=URI;X-ADDRESS=ASBURY UNITED METHODIST CHURCH 1810 KELLOGG AVENUE JANESVILLE WI 53545 United States;X-APPLE-RADIUS=500;X-TITLE=1810 KELLOGG AVENUE:geo:-89.0412454,42.6498539
END:VEVENT
BEGIN:VEVENT
DTSTART;TZID=America/Chicago:20250320T100000
DTEND;TZID=America/Chicago:20250320T150000
DTSTAMP:20260421T181857
CREATED:20250319T134034Z
LAST-MODIFIED:20250319T134034Z
UID:118475-1742464800-1742482800@www.bigradio.fm
SUMMARY:American Red Cross Blood Drive
DESCRIPTION:BLOOD DRIVE\nUnited Alloy Inc\n4100 Kennedy Rd\, Janesville\, WI 53545\nThursday\, March 20\n10:00 AM – 3:00 PM \nWe have 35 open spots for our blood drive this Thursday\, and we need your help! Your donation can save lives—every drop counts. \nDONOR PROMOS: Save lives and empower your health! In March\, the Red Cross will perform free A1C testing on successful donations. Plus\, come to give March 1-31 and get a $10 Amazon.com Gift Card by email. See rcblood.org/March for details. \nSign up today and make a difference! at redcrossblood.org SponsorCode: UnitedAlloy\nThank you for being a lifesaver! ❤️🩸 #GiveBlood #SaveLives\nWALK-INS WELCOME!
URL:https://www.bigradio.fm/event/american-red-cross-blood-drive/
LOCATION:WI
CATEGORIES:Event
ATTACH;FMTTYPE=image/jpeg:https://dehayf5mhw1h7.cloudfront.net/wp-content/uploads/sites/2455/2025/03/18084758/march-a1c-testing-image-3.jpg
END:VEVENT
BEGIN:VEVENT
DTSTART;TZID=America/Chicago:20250320T130000
DTEND;TZID=America/Chicago:20250320T140000
DTSTAMP:20260421T181857
CREATED:20250307T150245Z
LAST-MODIFIED:20250307T150245Z
UID:117302-1742475600-1742479200@www.bigradio.fm
SUMMARY:Medicare Basics
DESCRIPTION:By Pete Lopeno\, Senior Advocate\, Senior Connections\nState of Wisconsin OCI Licensed Health and Life Insurance Agent \nFor those of you who are preparing for retirement\, and for more than a few of you reading this right now that are already retired\, and/or are receiving disability benefits\, you might be wondering how medical claims are processed under original Medicare. \nThings work a lot differently than they do under employer insurance\, or any individual marketplace insurance plan that you might have had in the past. The good news is I’m here to try and simplify things for you. \nBy understanding this process\, you can have peace of mind knowing when your Medicare claims are being handled smoothly\, and ensuring that you pay as little out-of-pocket as possible based on your coverage.
URL:https://www.bigradio.fm/event/medicare-basics/
LOCATION:Cargill United Methodist Church\, 2000 Wesley Avenue\, Janesville\, WI\, 53545\, United States
CATEGORIES:Event
ATTACH;FMTTYPE=image/jpeg:https://dehayf5mhw1h7.cloudfront.net/wp-content/uploads/sites/2455/2025/02/27125632/flyer.jpg
ORGANIZER;CN="Looking%20Up%3A%20A%20Health%20and%20Wellness%20Ministry":MAILTO:lookingup608@gmail.com
END:VEVENT
BEGIN:VEVENT
DTSTART;TZID=America/Chicago:20250320T170000
DTEND;TZID=America/Chicago:20250320T190000
DTSTAMP:20260421T181857
CREATED:20250317T160810Z
LAST-MODIFIED:20250317T160810Z
UID:118363-1742490000-1742497200@www.bigradio.fm
SUMMARY:American Legion\, Janesville Post 205\, Fundraiser
DESCRIPTION:Mac’s Pizza Shack
URL:https://www.bigradio.fm/event/american-legion-janesville-post-205-fundraiser/
LOCATION:WI
END:VEVENT
BEGIN:VEVENT
DTSTART;TZID=America/Chicago:20250320T180000
DTEND;TZID=America/Chicago:20250320T210000
DTSTAMP:20260421T181857
CREATED:20250317T160804Z
LAST-MODIFIED:20250317T160804Z
UID:118378-1742493600-1742504400@www.bigradio.fm
SUMMARY:Black Hawk School District - Special Board Meeting
DESCRIPTION:Black Hawk will have a Special Board meeting at 6:00 pm in the Upper Commons on Thursday\, March 20\, 2025.
URL:https://www.bigradio.fm/event/black-hawk-school-district-special-board-meeting/
LOCATION:WI
END:VEVENT
BEGIN:VEVENT
DTSTART;TZID=America/Chicago:20250321T130000
DTEND;TZID=America/Chicago:20250321T140000
DTSTAMP:20260421T181857
CREATED:20250312T132025Z
LAST-MODIFIED:20250312T132025Z
UID:118041-1742562000-1742565600@www.bigradio.fm
SUMMARY:Haiti Mission Event
DESCRIPTION:Green County HCE\, will host an International Educational event on Friday\, March 21 at 1 p.m. at the Green County Justice Center\, 2841 6th St.\, Monroe. Annette Charlotin\, a native of Brodhead\, will speak about her experience running a mission in Haiti. Come learn about running a mission and what is going on in Haiti at the present time.
URL:https://www.bigradio.fm/event/haiti-mission-event/
LOCATION:466 Elm St\, Milton\, WI\, 53563\, United States
CATEGORIES:Event
ORGANIZER;CN="Green%20County%20HCE":MAILTO:lokken@wekz.net
END:VEVENT
BEGIN:VEVENT
DTSTART;TZID=America/Chicago:20250321T163000
DTEND;TZID=America/Chicago:20250321T193000
DTSTAMP:20260421T181857
CREATED:20250321T135457Z
LAST-MODIFIED:20250321T135457Z
UID:118651-1742574600-1742585400@www.bigradio.fm
SUMMARY:Monroe American Legion Fish Fry
DESCRIPTION:The Monroe American Legion will be having their Friday Night Fish Fry at the Legion Hall in Monroe from 4:30 until 7:30 pm. This week’s special is pork roast.
URL:https://www.bigradio.fm/event/monroe-american-legion-fish-fry/
LOCATION:WI
END:VEVENT
BEGIN:VEVENT
DTSTART;TZID=America/Chicago:20250321T180000
DTEND;TZID=America/Chicago:20250321T193000
DTSTAMP:20260421T181857
CREATED:20250219T144830Z
LAST-MODIFIED:20250219T144830Z
UID:116660-1742580000-1742585400@www.bigradio.fm
SUMMARY:Creative Capers
DESCRIPTION:Swing by on the 3rd Friday of the month from 6 to 7:30 pm for Creative Capers\, the ultimate adult craft bash! Grab the craft you’re working on and join the crafting party for some chit-chat and yummy snacks! Let’s get crafty and snack happy!
URL:https://www.bigradio.fm/event/creative-capers/2025-03-21/
LOCATION:Albertson Memorial Library\, 200 N. Water Street\, Albany\, WI\, 53502\, United States
CATEGORIES:Event
ORGANIZER;CN="Albertson%20Memorial%20Library":MAILTO:albertsonlibrary@gmail.com
END:VEVENT
BEGIN:VEVENT
DTSTART;TZID=America/Chicago:20250321T180000
DTEND;TZID=America/Chicago:20250321T200000
DTSTAMP:20260421T181857
CREATED:20250225T152637Z
LAST-MODIFIED:20250307T153158Z
UID:117105-1742580000-1742587200@www.bigradio.fm
SUMMARY:Open Gym Night at The Salvation Army
DESCRIPTION:When: Fridays\, 6:00 PM – 8:00 Pm \nWhere: The Salvation Army Gymnasium \nWho: Everyone is welcome! \nKick off your weekend with some fun! Whether you’re into basketball or just hanging out with friends\, our gym is open to all ages and skill levels. So grab your friends\, bring your energy\, and let’s have a great time! \nNo need to RSVP—just show up ready to play. Don’t miss out on this awesome weekly event! See you soon!
URL:https://www.bigradio.fm/event/__trashed-3/2025-03-21/
LOCATION:The Salvation Army Janesville 514 Sutherland Ave\, Janesville\, WI 53545\, 514 Sutherland Ave\, Janesville\, WI\, 53545\, United States
CATEGORIES:Event
ATTACH;FMTTYPE=image/jpeg:https://dehayf5mhw1h7.cloudfront.net/wp-content/uploads/sites/2455/2025/02/24115223/open-gym-night.jpg
ORGANIZER;CN="Salvation%20Army%20%7C%20Rock%20County":MAILTO:michelle.adkins@usc.salvationarmy.org
END:VEVENT
BEGIN:VEVENT
DTSTART;TZID=America/Chicago:20250321T193000
DTEND;TZID=America/Chicago:20250321T210000
DTSTAMP:20260421T181857
CREATED:20250317T160835Z
LAST-MODIFIED:20250317T160835Z
UID:118303-1742585400-1742590800@www.bigradio.fm
SUMMARY:Skate for Alli
DESCRIPTION:A local Craig High School Senior was diagnosed with Brain Cancer. The Janesville Figure Skating Club is hosting a Skate for Alli benefit on Friday\, March 21st from 7:30-9:00 pm. $10 suggested donation. Skate rental available.
URL:https://www.bigradio.fm/event/skate-for-alli/
LOCATION:Janesville Ice Arena\, 821 Beloit Ave\, Janesville\, WI\, 53545\, United States
CATEGORIES:Event
END:VEVENT
BEGIN:VEVENT
DTSTART;TZID=America/Chicago:20250322T090000
DTEND;TZID=America/Chicago:20250322T090000
DTSTAMP:20260421T181857
CREATED:20250321T135430Z
LAST-MODIFIED:20250321T135430Z
UID:118655-1742634000-1742634000@www.bigradio.fm
SUMMARY:Monroe Amateur Radio Association Meeting
DESCRIPTION:The Green County Amateur Radio Association will meet Saturday\, March 22nd\, at 9am at Fire Station Number 1 in Monroe. Please use the side door. All licensed amateurs and those interested are welcome to attend.
URL:https://www.bigradio.fm/event/monroe-amateur-radio-association-meeting/
LOCATION:WI
END:VEVENT
BEGIN:VEVENT
DTSTART;TZID=America/Chicago:20250322T090000
DTEND;TZID=America/Chicago:20250322T120000
DTSTAMP:20260421T181857
CREATED:20241103T060841Z
LAST-MODIFIED:20241103T060841Z
UID:116393-1742634000-1742644800@www.bigradio.fm
SUMMARY:Winter Crafter & Farmers’ Market
DESCRIPTION:Join us for our Beloit WINTER Crafter & Farmers’ Market every Saturday November through April from 9 am to 12 pm. We will have vendors inside\, food trucks outside and free family-friendly activities!
URL:https://www.bigradio.fm/event/winter-crafter-farmers-market/2025-03-22/
LOCATION:Downtown Beloit Association\, 557 E Grand Ave\, Beloit\, WI\, 53511\, United States
ATTACH;FMTTYPE=image/jpeg:https://dehayf5mhw1h7.cloudfront.net/wp-content/uploads/sites/2455/2025/02/17011222/winter-market-2024.jpg
ORGANIZER;CN="Downtown%20Beloit%20Association":MAILTO:shauna@downtownbeloit.com
END:VEVENT
BEGIN:VEVENT
DTSTART;TZID=America/Chicago:20250322T090000
DTEND;TZID=America/Chicago:20250322T140000
DTSTAMP:20260421T181857
CREATED:20250321T135437Z
LAST-MODIFIED:20250321T135437Z
UID:118653-1742634000-1742652000@www.bigradio.fm
SUMMARY:Brodhead Chamber Home Show & Trade Expo
DESCRIPTION:Brodhead Chamber of Commerce will host the 1st Annual Home Show & Trade Expo at Brodhead High School on Saturday\, March 22nd\, from 9am to 2pm. This brand-new event aims to connect local businesses\, service providers\, and community members for a day of networking\, discovery and opportunity. This event is free to the public and all are welcome.
URL:https://www.bigradio.fm/event/brodhead-chamber-home-show-trade-expo/
LOCATION:WI
END:VEVENT
BEGIN:VEVENT
DTSTART;TZID=America/Chicago:20250322T130000
DTEND;TZID=America/Chicago:20250322T160000
DTSTAMP:20260421T181857
CREATED:20250307T150230Z
LAST-MODIFIED:20250307T150230Z
UID:117375-1742648400-1742659200@www.bigradio.fm
SUMMARY:Community Kids Stepping Stones Academy Meat Raffle
DESCRIPTION:Community Action\, Inc. (CAI) is thrilled to announce a fun-filled Meat Raffle event to support the Community Kids Stepping Stones Academy\, an expansion of the Community Kids Learning Center in Janesville. This exciting event will take place on Saturday\, March 22nd\, from 1:00 PM to 4:00 PM at Boundaries Bar and Grill. The Community Kids Stepping Stones Academy aims to provide high-quality child care to families in Beloit\, WI. The Meat Raffle event will feature fantastic meat prizes\, raffle baskets\, and a 50/50 raffle\, with all proceeds going towards supporting the academy and ensuring a bright future for the children in our community. Community Action\, Inc. invites everyone to join in the fun and support the Community Kids Stepping Stones Academy. Your participation and generosity will help us provide essential child care services and create a positive impact on the lives of children and families in our community.
URL:https://www.bigradio.fm/event/community-kids-stepping-stones-academy-meat-raffle/
LOCATION:Boundaries bar &amp; Grill\, 3807 S. Riverside Dr.\, Beloit\, WI\, 53511\, United States
CATEGORIES:Event
ATTACH;FMTTYPE=image/png:https://dehayf5mhw1h7.cloudfront.net/wp-content/uploads/sites/2455/2025/02/28112926/ckssa-meat-raffle-5.png
ORGANIZER;CN="community%20Action%2C%20Inc.%20of%20Rock%20and%20Walworth%20Counties":MAILTO:info@community-action.org
END:VEVENT
BEGIN:VEVENT
DTSTART;TZID=America/Chicago:20250322T160000
DTEND;TZID=America/Chicago:20250322T190000
DTSTAMP:20260421T181857
CREATED:20250318T133001Z
LAST-MODIFIED:20250318T133001Z
UID:118461-1742659200-1742670000@www.bigradio.fm
SUMMARY:Clarno Zion United Methodist Church Pancake Supper and Bake Sale
DESCRIPTION:All you can eat pancakes! Huge Bake Sale and a silent auction!\nAdults $9.00\nChildren 5-12: $4.50\n4 and under: free\nW5292 County Road P Monroe\, WI 53566
URL:https://www.bigradio.fm/event/clarno-zion-united-methodist-church-pancake-supper-and-bake-sale/
LOCATION:WI
END:VEVENT
BEGIN:VEVENT
DTSTART;TZID=America/Chicago:20250322T183000
DTEND;TZID=America/Chicago:20250322T213000
DTSTAMP:20260421T181858
CREATED:20250310T142245Z
LAST-MODIFIED:20250310T142245Z
UID:117721-1742668200-1742679000@www.bigradio.fm
SUMMARY:Shullsburg FFA Alumni Auction
DESCRIPTION:35th Annual FFA Alumni Auction: March 22\, Auction starts at 6:30 pm with doors opening at 5:30 pm – held at “The Pit” at the Shullsburg School. Light Meal provided before the auction with beef/pork sandwiches donated by Community Bank of Warren\, cheesy hash brown and chips\, cheese donated by Bruce and Sandy Russell\, homemade desserts provided by Alumni Members\, milk donated by Prairie Farms of Dubuque\, coffee and water. \nMany items donated by local businesses – all to be auctioned off by Teasdale-Gill Auction Service with all proceeds benefitting the Shullsburg FFA Chapter and the Shullsburg Ag program. \nAny question can be directed to Mike Woodworth at 608-558-2801. (mwoodworth34@gmail.com)
URL:https://www.bigradio.fm/event/shullsburg-ffa-alumni-auction/
LOCATION:WI
END:VEVENT
BEGIN:VEVENT
DTSTART;TZID=America/Chicago:20250323T110000
DTEND;TZID=America/Chicago:20250323T130000
DTSTAMP:20260421T181858
CREATED:20250321T135416Z
LAST-MODIFIED:20250321T135416Z
UID:118657-1742727600-1742734800@www.bigradio.fm
SUMMARY:South Wayne Ham Dinner
DESCRIPTION:Our Savior’s Lutheran Church in South Wayne will host a ham dinner on Sunday\, March 23rd\, from 11am to 1pm. Everyone is welcome. Dine-in and carry-out available.
URL:https://www.bigradio.fm/event/south-wayne-ham-dinner/
LOCATION:WI
END:VEVENT
BEGIN:VEVENT
DTSTART;TZID=America/Chicago:20250323T160000
DTEND;TZID=America/Chicago:20250323T180000
DTSTAMP:20260421T181858
CREATED:20250312T195302Z
LAST-MODIFIED:20250312T202213Z
UID:118155-1742745600-1742752800@www.bigradio.fm
SUMMARY:Loaves and Fishes Community Meal
DESCRIPTION:The March Loaves and Fishes Community Meal at Grace Lutheran Church in Monroe will be held on Sunday\, March 23rd\, from 4 to 6pm. The church basement is handicap accessible. Donations/meal sponsorship funds can be sent to PO Box 176 Argyle\, WI 53504. \nloaves-march-2025
URL:https://www.bigradio.fm/event/monroe-loaves-and-fishes-community-meal/
LOCATION:Grace Lutheran Church\, 1025 15th Ave\, Monroe\, WI\, 53566\, United States
END:VEVENT
BEGIN:VEVENT
DTSTART;TZID=America/Chicago:20250324T183000
DTEND;TZID=America/Chicago:20250324T193000
DTSTAMP:20260421T181858
CREATED:20250219T144808Z
LAST-MODIFIED:20250219T144808Z
UID:116684-1742841000-1742844600@www.bigradio.fm
SUMMARY:All  Booked Up
DESCRIPTION:Join us for our monthly book club\, All Booked Up\, which takes place on the fourth Monday of each month at 6:30 PM. Each month\, we will explore a new book. You can find the title for each month’s discussion posted on our Facebook and Instagram pages. The selected title will be available for checkout in standard\, large print\, and audio formats at the start of each month.
URL:https://www.bigradio.fm/event/all-booked-up/2025-03-24/
LOCATION:Albertson Memorial Library\, 200 N. Water Street\, Albany\, WI\, 53502\, United States
CATEGORIES:Event
ORGANIZER;CN="Albertson%20Memorial%20Library":MAILTO:albertsonlibrary@gmail.com
END:VEVENT
BEGIN:VEVENT
DTSTART;TZID=America/Chicago:20250325T100000
DTEND;TZID=America/Chicago:20250325T110000
DTSTAMP:20260421T181858
CREATED:20250219T144452Z
LAST-MODIFIED:20250219T150237Z
UID:116711-1742896800-1742900400@www.bigradio.fm
SUMMARY:Preschool Storytime
DESCRIPTION:Enjoy stories and crafts every Tuesday at 10 am with our Children’s Programming Specialist\, Miss Laura.
URL:https://www.bigradio.fm/event/preschool-storytime/2025-03-25/
LOCATION:Albertson Memorial Library\, 200 N. Water Street\, Albany\, WI\, 53502\, United States
CATEGORIES:Event
ATTACH;FMTTYPE=image/png:https://dehayf5mhw1h7.cloudfront.net/wp-content/uploads/sites/2455/2025/02/18145010/preschool-storytime-11-x-8-5-in-3.png
ORGANIZER;CN="Albertson%20Memorial%20Library":MAILTO:albertsonlibrary@gmail.com
END:VEVENT
BEGIN:VEVENT
DTSTART;TZID=America/Chicago:20250326T120000
DTEND;TZID=America/Chicago:20250326T130000
DTSTAMP:20260421T181858
CREATED:20250211T151845Z
LAST-MODIFIED:20250211T151845Z
UID:116449-1742990400-1742994000@www.bigradio.fm
SUMMARY:Asbury Wednesday's Lent Soup and Sandwich Luncheon
DESCRIPTION:Everyone is welcome to join us for our Wednesday’s Lent Soup and Sandwich Luncheon followed by our Lenten service. We have moved our time to Noon this year for our Wednesday’s Soup & Sandwich Luncheon. Our Lenten service will be at 1 p.m. The dates are: March 12\, 19\, 26\, April 2 & 9.
URL:https://www.bigradio.fm/event/asbury-wednesdays-lent-soup-and-sandwich-luncheon/2025-03-26/
LOCATION:ASBURY UNITED METHODIST CHURCH\, 1810 KELLOGG AVENUE\, JANESVILLE\, WI\, 53545\, United States
CATEGORIES:Event
ATTACH;FMTTYPE=image/png:https://dehayf5mhw1h7.cloudfront.net/wp-content/uploads/sites/2455/2025/02/11151845/church-logo.png
GEO:42.6498539;-89.0412454
X-APPLE-STRUCTURED-LOCATION;VALUE=URI;X-ADDRESS=ASBURY UNITED METHODIST CHURCH 1810 KELLOGG AVENUE JANESVILLE WI 53545 United States;X-APPLE-RADIUS=500;X-TITLE=1810 KELLOGG AVENUE:geo:-89.0412454,42.6498539
END:VEVENT
BEGIN:VEVENT
DTSTART;TZID=America/Chicago:20250327T170000
DTEND;TZID=America/Chicago:20250327T193000
DTSTAMP:20260421T181858
CREATED:20250318T133011Z
LAST-MODIFIED:20250318T133011Z
UID:118439-1743094800-1743103800@www.bigradio.fm
SUMMARY:BAILEYVILLE REFORMED CHURCH ANNUAL SOUP SUPPER
DESCRIPTION:We will be serving chicken noodle soup\, chili\, vegetable beef soup\, egg salad sandwiches and ham and cheese sandwiches. We will also be serving home made pies and various desserts.
URL:https://www.bigradio.fm/event/baileyville-reformed-church-annual-soup-supper/
LOCATION:WI
CATEGORIES:Event
END:VEVENT
BEGIN:VEVENT
DTSTART;TZID=America/Chicago:20250327T183000
DTEND;TZID=America/Chicago:20250327T193000
DTSTAMP:20260421T181858
CREATED:20250219T144745Z
LAST-MODIFIED:20250219T150115Z
UID:116672-1743100200-1743103800@www.bigradio.fm
SUMMARY:Sugar River Writers
DESCRIPTION:Whether you’re a word wizard or just starting out\, everyone’s invited to join the fun on the 4th Thursday of the month at 6:30 pm to share and be inspired while working on their writing projects with the Sugar River Writers.
URL:https://www.bigradio.fm/event/__trashed/2025-03-27/
LOCATION:Albertson Memorial Library\, 200 N. Water Street\, Albany\, WI\, 53502\, United States
CATEGORIES:Event
ORGANIZER;CN="Albertson%20Memorial%20Library":MAILTO:albertsonlibrary@gmail.com
END:VEVENT
BEGIN:VEVENT
DTSTART;TZID=America/Chicago:20250328T160000
DTEND;TZID=America/Chicago:20250328T200000
DTSTAMP:20260421T181858
CREATED:20250324T150443Z
LAST-MODIFIED:20250324T150443Z
UID:118770-1743177600-1743192000@www.bigradio.fm
SUMMARY:Misfit Felines Cat/Kitten Adoption Event
DESCRIPTION:This event is being held by Misfit Felines of Southern Wisconsin and Northern Illinois. It is sponsored by PetSmart and PetSmart Charities. We will have approximately 35 adoptable kittens and cats onsite. All of them have been wormed\, vaccinated\, spayed/neutered and microchipped. They are judged to be healthy and ready for their forever home. If you are interested in same-day adoption\, please complete an application form. These can be found on our Webpage\, Facebook Page\, and PetFinder. Applications can also be completed at the event\, but we cannot guarantee same-day adoptions.
URL:https://www.bigradio.fm/event/misfit-felines-cat-kitten-adoption-event/
LOCATION:PetSmart Pet Store\, 2700 Pontiac Place\, Janesville\, 53545\, United States
CATEGORIES:Event
ATTACH;FMTTYPE=image/jpeg:https://dehayf5mhw1h7.cloudfront.net/wp-content/uploads/sites/2455/2025/03/21175946/img_2339.jpeg
END:VEVENT
BEGIN:VEVENT
DTSTART;TZID=America/Chicago:20250328T180000
DTEND;TZID=America/Chicago:20250328T200000
DTSTAMP:20260421T181858
CREATED:20250225T152637Z
LAST-MODIFIED:20250307T153200Z
UID:117106-1743184800-1743192000@www.bigradio.fm
SUMMARY:Open Gym Night at The Salvation Army
DESCRIPTION:When: Fridays\, 6:00 PM – 8:00 Pm \nWhere: The Salvation Army Gymnasium \nWho: Everyone is welcome! \nKick off your weekend with some fun! Whether you’re into basketball or just hanging out with friends\, our gym is open to all ages and skill levels. So grab your friends\, bring your energy\, and let’s have a great time! \nNo need to RSVP—just show up ready to play. Don’t miss out on this awesome weekly event! See you soon!
URL:https://www.bigradio.fm/event/__trashed-3/2025-03-28/
LOCATION:The Salvation Army Janesville 514 Sutherland Ave\, Janesville\, WI 53545\, 514 Sutherland Ave\, Janesville\, WI\, 53545\, United States
CATEGORIES:Event
ATTACH;FMTTYPE=image/jpeg:https://dehayf5mhw1h7.cloudfront.net/wp-content/uploads/sites/2455/2025/02/24115223/open-gym-night.jpg
ORGANIZER;CN="Salvation%20Army%20%7C%20Rock%20County":MAILTO:michelle.adkins@usc.salvationarmy.org
END:VEVENT
BEGIN:VEVENT
DTSTART;TZID=America/Chicago:20250328T193000
DTEND;TZID=America/Chicago:20250328T213000
DTSTAMP:20260421T181858
CREATED:20250325T134326Z
LAST-MODIFIED:20250325T134326Z
UID:118744-1743190200-1743197400@www.bigradio.fm
SUMMARY:Darlington HS Theater: One Stoplight Town
DESCRIPTION:The Darlington High School Theater Department is excited to perform its production of One Stoplight Town by Tracey Wells on Friday\, Saturday\, and Sunday March 28th-30th at the Leona Havens Theatre at DHS. Friday and Saturday performances are at 7:30pm with a Sunday matinee at 1:30pm. Tickets are available at the door\, or in advance by visiting https://our.show/onestoplight
URL:https://www.bigradio.fm/event/darlington-hs-theater-one-stoplight-town/
LOCATION:WI
END:VEVENT
BEGIN:VEVENT
DTSTART;TZID=America/Chicago:20250329T090000
DTEND;TZID=America/Chicago:20250329T120000
DTSTAMP:20260421T181858
CREATED:20241103T060841Z
LAST-MODIFIED:20241103T060841Z
UID:116394-1743238800-1743249600@www.bigradio.fm
SUMMARY:Winter Crafter & Farmers’ Market
DESCRIPTION:Join us for our Beloit WINTER Crafter & Farmers’ Market every Saturday November through April from 9 am to 12 pm. We will have vendors inside\, food trucks outside and free family-friendly activities!
URL:https://www.bigradio.fm/event/winter-crafter-farmers-market/2025-03-29/
LOCATION:Downtown Beloit Association\, 557 E Grand Ave\, Beloit\, WI\, 53511\, United States
ATTACH;FMTTYPE=image/jpeg:https://dehayf5mhw1h7.cloudfront.net/wp-content/uploads/sites/2455/2025/02/17011222/winter-market-2024.jpg
ORGANIZER;CN="Downtown%20Beloit%20Association":MAILTO:shauna@downtownbeloit.com
END:VEVENT
BEGIN:VEVENT
DTSTART;TZID=America/Chicago:20250329T103000
DTEND;TZID=America/Chicago:20250329T120000
DTSTAMP:20260421T181858
CREATED:20250325T134247Z
LAST-MODIFIED:20250325T134247Z
UID:118741-1743244200-1743249600@www.bigradio.fm
SUMMARY:Monthly Book Club Meeting (Sponsored by Peace Valley Lutheran Church - Monticello)
DESCRIPTION:Sponsored by Peace Valley Lutheran Church – Missouri Synod. We are currently reading the C.S. Lewis series The Chronicles of Narnia. This series consists of 7 separately titled stories and we are working through them chronological order. For March we will be reviewing The Lion\, The Witch and The Wardrobe. We meet at King Bubba’s once a month and will be meeting March 29th at 10:30 a.m. to review the previously mentioned book. (see flyer for any additional details) Join us for an engaging discussion. We would love to have you attend.
URL:https://www.bigradio.fm/event/monthly-book-club-meeting-sponsored-by-peace-valley-lutheran-church-monticello/
LOCATION:WI
CATEGORIES:Club
ATTACH;FMTTYPE=image/jpeg:https://dehayf5mhw1h7.cloudfront.net/wp-content/uploads/sites/2455/2025/03/21113833/march-book-club-flyer.jpg
END:VEVENT
END:VCALENDAR