BEGIN:VCALENDAR
VERSION:2.0
PRODID:-//Big Radio - ECPv5.6.0//NONSGML v1.0//EN
CALSCALE:GREGORIAN
METHOD:PUBLISH
X-WR-CALNAME:Big Radio
X-ORIGINAL-URL:https://www.bigradio.fm
X-WR-CALDESC:Events for Big Radio
BEGIN:VTIMEZONE
TZID:America/Chicago
BEGIN:DAYLIGHT
TZOFFSETFROM:-0600
TZOFFSETTO:-0500
TZNAME:CDT
DTSTART:20260308T080000
END:DAYLIGHT
BEGIN:STANDARD
TZOFFSETFROM:-0500
TZOFFSETTO:-0600
TZNAME:CST
DTSTART:20261101T070000
END:STANDARD
END:VTIMEZONE
BEGIN:VEVENT
DTSTART;TZID=America/Chicago:20260423T190000
DTEND;TZID=America/Chicago:20260423T210000
DTSTAMP:20260422T232106
CREATED:20260422T133441Z
LAST-MODIFIED:20260422T133441Z
UID:139128-1776970800-1776978000@www.bigradio.fm
SUMMARY:Jefferson High School presents the musical\, As you Like It
DESCRIPTION:Jefferson High School presents the musical\, As you Like It\, a ravishing new musical adaptation of Shakespeare’s classic story of chance encounters and self-discovery this weekend. Tickets are available at the High School Office during school hours or at the door.\nThursday\, April 23th at 7:00\nFriday\, April 24th at 7:00\nSaturday\, April 25th at 7:00\nSunday\, April 26th at 2:00
URL:https://www.bigradio.fm/event/jefferson-high-school-presents-the-musical-as-you-like-it/2026-04-23/
LOCATION:Jefferson High School\, 700 W. Milwaukee Street\, Jefferson\, WI\, 53549\, United States
CATEGORIES:Event
ATTACH;FMTTYPE=image/jpeg:https://dehayf5mhw1h7.cloudfront.net/wp-content/uploads/sites/2455/2026/04/21110755/as-you-like-it.jpg
ORGANIZER;CN="Jefferson%20High%20School%20Drama%20Club":MAILTO:amyciskelehman@gmail.com
END:VEVENT
BEGIN:VEVENT
DTSTART;TZID=America/Chicago:20260424T180000
DTEND;TZID=America/Chicago:20260428T200000
DTSTAMP:20260422T232106
CREATED:20260422T133442Z
LAST-MODIFIED:20260422T133442Z
UID:139132-1777053600-1777406400@www.bigradio.fm
SUMMARY:Jefferson High School presents the musical\, As you Like It
DESCRIPTION:Jefferson High School presents the musical\, As you Like It\, a ravishing new musical adaptation of Shakespeare’s classic story of chance encounters and self-discovery this weekend. Tickets are available at the High School Office during school hours or at the door.\nThursday\, April 23th at 7:00\nFriday\, April 24th at 7:00\nSaturday\, April 25th at 7:00\nSunday\, April 26th at 2:00
URL:https://www.bigradio.fm/event/jefferson-high-school-presents-the-musical-as-you-like-it/2026-04-24/
LOCATION:Jefferson High School\, 700 W. Milwaukee Street\, Jefferson\, WI\, 53549\, United States
CATEGORIES:Event
ATTACH;FMTTYPE=image/jpeg:https://dehayf5mhw1h7.cloudfront.net/wp-content/uploads/sites/2455/2026/04/21110755/as-you-like-it.jpg
ORGANIZER;CN="Jefferson%20High%20School%20Drama%20Club":MAILTO:amyciskelehman@gmail.com
END:VEVENT
BEGIN:VEVENT
DTSTART;TZID=America/Chicago:20260424T190000
DTEND;TZID=America/Chicago:20260424T210000
DTSTAMP:20260422T232106
CREATED:20260422T133442Z
LAST-MODIFIED:20260422T133442Z
UID:139133-1777057200-1777064400@www.bigradio.fm
SUMMARY:Jefferson High School presents the musical\, As you Like It
DESCRIPTION:Jefferson High School presents the musical\, As you Like It\, a ravishing new musical adaptation of Shakespeare’s classic story of chance encounters and self-discovery this weekend. Tickets are available at the High School Office during school hours or at the door.\nThursday\, April 23th at 7:00\nFriday\, April 24th at 7:00\nSaturday\, April 25th at 7:00\nSunday\, April 26th at 2:00
URL:https://www.bigradio.fm/event/jefferson-high-school-presents-the-musical-as-you-like-it/2026-04-24/2/
LOCATION:Jefferson High School\, 700 W. Milwaukee Street\, Jefferson\, WI\, 53549\, United States
CATEGORIES:Event
ATTACH;FMTTYPE=image/jpeg:https://dehayf5mhw1h7.cloudfront.net/wp-content/uploads/sites/2455/2026/04/21110755/as-you-like-it.jpg
ORGANIZER;CN="Jefferson%20High%20School%20Drama%20Club":MAILTO:amyciskelehman@gmail.com
END:VEVENT
BEGIN:VEVENT
DTSTART;TZID=America/Chicago:20260425T180000
DTEND;TZID=America/Chicago:20260429T200000
DTSTAMP:20260422T232106
CREATED:20260422T133443Z
LAST-MODIFIED:20260422T133443Z
UID:139134-1777140000-1777492800@www.bigradio.fm
SUMMARY:Jefferson High School presents the musical\, As you Like It
DESCRIPTION:Jefferson High School presents the musical\, As you Like It\, a ravishing new musical adaptation of Shakespeare’s classic story of chance encounters and self-discovery this weekend. Tickets are available at the High School Office during school hours or at the door.\nThursday\, April 23th at 7:00\nFriday\, April 24th at 7:00\nSaturday\, April 25th at 7:00\nSunday\, April 26th at 2:00
URL:https://www.bigradio.fm/event/jefferson-high-school-presents-the-musical-as-you-like-it/2026-04-25/
LOCATION:Jefferson High School\, 700 W. Milwaukee Street\, Jefferson\, WI\, 53549\, United States
CATEGORIES:Event
ATTACH;FMTTYPE=image/jpeg:https://dehayf5mhw1h7.cloudfront.net/wp-content/uploads/sites/2455/2026/04/21110755/as-you-like-it.jpg
ORGANIZER;CN="Jefferson%20High%20School%20Drama%20Club":MAILTO:amyciskelehman@gmail.com
END:VEVENT
BEGIN:VEVENT
DTSTART;TZID=America/Chicago:20260425T190000
DTEND;TZID=America/Chicago:20260425T210000
DTSTAMP:20260422T232106
CREATED:20260422T133443Z
LAST-MODIFIED:20260422T133443Z
UID:139135-1777143600-1777150800@www.bigradio.fm
SUMMARY:Jefferson High School presents the musical\, As you Like It
DESCRIPTION:Jefferson High School presents the musical\, As you Like It\, a ravishing new musical adaptation of Shakespeare’s classic story of chance encounters and self-discovery this weekend. Tickets are available at the High School Office during school hours or at the door.\nThursday\, April 23th at 7:00\nFriday\, April 24th at 7:00\nSaturday\, April 25th at 7:00\nSunday\, April 26th at 2:00
URL:https://www.bigradio.fm/event/jefferson-high-school-presents-the-musical-as-you-like-it/2026-04-25/2/
LOCATION:Jefferson High School\, 700 W. Milwaukee Street\, Jefferson\, WI\, 53549\, United States
CATEGORIES:Event
ATTACH;FMTTYPE=image/jpeg:https://dehayf5mhw1h7.cloudfront.net/wp-content/uploads/sites/2455/2026/04/21110755/as-you-like-it.jpg
ORGANIZER;CN="Jefferson%20High%20School%20Drama%20Club":MAILTO:amyciskelehman@gmail.com
END:VEVENT
BEGIN:VEVENT
DTSTART;TZID=America/Chicago:20260426T180000
DTEND;TZID=America/Chicago:20260430T200000
DTSTAMP:20260422T232106
CREATED:20260422T133444Z
LAST-MODIFIED:20260422T133444Z
UID:139136-1777226400-1777579200@www.bigradio.fm
SUMMARY:Jefferson High School presents the musical\, As you Like It
DESCRIPTION:Jefferson High School presents the musical\, As you Like It\, a ravishing new musical adaptation of Shakespeare’s classic story of chance encounters and self-discovery this weekend. Tickets are available at the High School Office during school hours or at the door.\nThursday\, April 23th at 7:00\nFriday\, April 24th at 7:00\nSaturday\, April 25th at 7:00\nSunday\, April 26th at 2:00
URL:https://www.bigradio.fm/event/jefferson-high-school-presents-the-musical-as-you-like-it/2026-04-26/
LOCATION:Jefferson High School\, 700 W. Milwaukee Street\, Jefferson\, WI\, 53549\, United States
CATEGORIES:Event
ATTACH;FMTTYPE=image/jpeg:https://dehayf5mhw1h7.cloudfront.net/wp-content/uploads/sites/2455/2026/04/21110755/as-you-like-it.jpg
ORGANIZER;CN="Jefferson%20High%20School%20Drama%20Club":MAILTO:amyciskelehman@gmail.com
END:VEVENT
END:VCALENDAR