BEGIN:VCALENDAR
VERSION:2.0
PRODID:-//Big Radio - ECPv5.6.0//NONSGML v1.0//EN
CALSCALE:GREGORIAN
METHOD:PUBLISH
X-WR-CALNAME:Big Radio
X-ORIGINAL-URL:https://www.bigradio.fm
X-WR-CALDESC:Events for Big Radio
BEGIN:VTIMEZONE
TZID:America/Chicago
BEGIN:DAYLIGHT
TZOFFSETFROM:-0600
TZOFFSETTO:-0500
TZNAME:CDT
DTSTART:20250309T080000
END:DAYLIGHT
BEGIN:STANDARD
TZOFFSETFROM:-0500
TZOFFSETTO:-0600
TZNAME:CST
DTSTART:20251102T070000
END:STANDARD
END:VTIMEZONE
BEGIN:VEVENT
DTSTART;TZID=America/Chicago:20250518T080000
DTEND;TZID=America/Chicago:20250518T160000
DTSTAMP:20260424T172627
CREATED:20250328T145914Z
LAST-MODIFIED:20250328T145914Z
UID:119252-1747555200-1747584000@www.bigradio.fm
SUMMARY:Civill War Living History Days at the Milton House Museum
DESCRIPTION:Step back in time to the era of the American Civil War at the historic Milton House Museum in Milton\, Wisconsin\, for “Civil War Living History Days.” It is a free\, family-friendly\, living history event\, Saturday and Sunday\, May 16th – 18th. Experience the Civil War period through interactive hands-on stations and engaging reenactments by soldiers\, medical personnel\, and everyday people who lived through one of the most transformative times in American history. \nAdditional details on the event can be found on the Milton House Museum website at MiltonHouse.org.
URL:https://www.bigradio.fm/event/civill-war-living-history-days-at-the-milton-house-museum/2025-05-18/
LOCATION:Milton House Museum\, 18 S Janesville St\, Milton\, WI\, 53563
CATEGORIES:Event
ATTACH;FMTTYPE=image/jpeg:https://dehayf5mhw1h7.cloudfront.net/wp-content/uploads/sites/2455/2025/03/27134129/cwd-2025.jpg
END:VEVENT
BEGIN:VEVENT
DTSTART;TZID=America/Chicago:20250517T080000
DTEND;TZID=America/Chicago:20250517T160000
DTSTAMP:20260424T172627
CREATED:20250328T145913Z
LAST-MODIFIED:20250328T145913Z
UID:119236-1747468800-1747497600@www.bigradio.fm
SUMMARY:Civill War Living History Days at the Milton House Museum
DESCRIPTION:Step back in time to the era of the American Civil War at the historic Milton House Museum in Milton\, Wisconsin\, for “Civil War Living History Days.” It is a free\, family-friendly\, living history event\, Saturday and Sunday\, May 16th – 18th. Experience the Civil War period through interactive hands-on stations and engaging reenactments by soldiers\, medical personnel\, and everyday people who lived through one of the most transformative times in American history. \nAdditional details on the event can be found on the Milton House Museum website at MiltonHouse.org.
URL:https://www.bigradio.fm/event/civill-war-living-history-days-at-the-milton-house-museum/2025-05-17/
LOCATION:Milton House Museum\, 18 S Janesville St\, Milton\, WI\, 53563
CATEGORIES:Event
ATTACH;FMTTYPE=image/jpeg:https://dehayf5mhw1h7.cloudfront.net/wp-content/uploads/sites/2455/2025/03/27134129/cwd-2025.jpg
END:VEVENT
END:VCALENDAR