BEGIN:VCALENDAR
VERSION:2.0
PRODID:-//Big Radio - ECPv5.6.0//NONSGML v1.0//EN
CALSCALE:GREGORIAN
METHOD:PUBLISH
X-WR-CALNAME:Big Radio
X-ORIGINAL-URL:https://www.bigradio.fm
X-WR-CALDESC:Events for Big Radio
BEGIN:VTIMEZONE
TZID:America/Chicago
BEGIN:DAYLIGHT
TZOFFSETFROM:-0600
TZOFFSETTO:-0500
TZNAME:CDT
DTSTART:20250309T080000
END:DAYLIGHT
BEGIN:STANDARD
TZOFFSETFROM:-0500
TZOFFSETTO:-0600
TZNAME:CST
DTSTART:20251102T070000
END:STANDARD
END:VTIMEZONE
BEGIN:VEVENT
DTSTART;TZID=America/Chicago:20250817T080000
DTEND;TZID=America/Chicago:20250817T210000
DTSTAMP:20260423T034557
CREATED:20250808T164835Z
LAST-MODIFIED:20250808T164835Z
UID:126249-1755417600-1755464400@www.bigradio.fm
SUMMARY:Baird CAPA Cup 2025
DESCRIPTION:For Immediate Release • 2025 August 8\n2025 CAPA CUP PICKLEBALL TOURNAMENT AT BAKKEN PARK IN COTTAGE GROVE \nMADISON — Over 400 entrants will enjoy three days of friendly pickleball competition\, August 15-17\, in the 3rd Annual Baird CAPA Cup Tournament\, to be held at Bakken Park in Cottage Grove. Pickleball is the nation’s fastest-growing sport\, and that enthusiasm level is evidenced by tournament participants more than doubling since the first CAPA Cup in 2023. \nThe tournament is organized by the Capital Area Pickleball Association (CAPA) with generous financial support from Baird Wealth Management. Proceeds from the tournament will be donated to Boys and Girls Clubs of Dane County. \nThe tournament will have four sessions each day\, from 8 in the morning until 9 at night\, and each session will feature at least two brackets of competition. Brackets are based on skill level\, with men’s\, women’s\, and mixed-gender categories. There are also brackets for players over age 70 and\, a first this year\, for parent-child teammates. Spectators and media coverage are welcome. \nCAPA President and tournament director Kevin McPherson said “Pickleball is well known as a sport that’s easy to learn and fun to play with a friendly\, welcoming atmosphere. An added bonus for our members is the chance to compete at events like our annual tournament. Baird is a fantastic partner that is all-in on pickleball at both the national and local levels.” \nBaird Director and Branch Manager Chris Yesbeck said “Baird is proud to support the CAPA Cup and the local organizations it benefits. Events like this strengthen our community by bringing people together and giving back in meaningful ways.” \nAbout Capital Area Pickleball Association (CAPA)\nCAPA is dedicated to promoting and advancing the sport of pickleball in south central Wisconsin\, fostering a vibrant and inclusive pickleball community. \nFor further information\, contact:\nCAPA President and tournament director Kevin McPherson\, kevinjmcpherson@gmail.com\, 608-358-3776‬ \nPS: Today\, August 8\, is National Pickleball Day.
URL:https://www.bigradio.fm/event/baird-capa-cup-2025/2025-08-17/
LOCATION:Bakken Park\, 221 Grove St.\, Cottage Grove\, WI\, 53527\, 221 Grove St.\, Cottage Grove\, WI\, 53527\, United States
CATEGORIES:Event
ORGANIZER;CN="Capital%20Area%20Pickleball%20Association":MAILTO:RichardSRussell@tds.net
END:VEVENT
BEGIN:VEVENT
DTSTART;TZID=America/Chicago:20250816T080000
DTEND;TZID=America/Chicago:20250816T210000
DTSTAMP:20260423T034558
CREATED:20250808T164835Z
LAST-MODIFIED:20250808T164835Z
UID:126248-1755331200-1755378000@www.bigradio.fm
SUMMARY:Baird CAPA Cup 2025
DESCRIPTION:For Immediate Release • 2025 August 8\n2025 CAPA CUP PICKLEBALL TOURNAMENT AT BAKKEN PARK IN COTTAGE GROVE \nMADISON — Over 400 entrants will enjoy three days of friendly pickleball competition\, August 15-17\, in the 3rd Annual Baird CAPA Cup Tournament\, to be held at Bakken Park in Cottage Grove. Pickleball is the nation’s fastest-growing sport\, and that enthusiasm level is evidenced by tournament participants more than doubling since the first CAPA Cup in 2023. \nThe tournament is organized by the Capital Area Pickleball Association (CAPA) with generous financial support from Baird Wealth Management. Proceeds from the tournament will be donated to Boys and Girls Clubs of Dane County. \nThe tournament will have four sessions each day\, from 8 in the morning until 9 at night\, and each session will feature at least two brackets of competition. Brackets are based on skill level\, with men’s\, women’s\, and mixed-gender categories. There are also brackets for players over age 70 and\, a first this year\, for parent-child teammates. Spectators and media coverage are welcome. \nCAPA President and tournament director Kevin McPherson said “Pickleball is well known as a sport that’s easy to learn and fun to play with a friendly\, welcoming atmosphere. An added bonus for our members is the chance to compete at events like our annual tournament. Baird is a fantastic partner that is all-in on pickleball at both the national and local levels.” \nBaird Director and Branch Manager Chris Yesbeck said “Baird is proud to support the CAPA Cup and the local organizations it benefits. Events like this strengthen our community by bringing people together and giving back in meaningful ways.” \nAbout Capital Area Pickleball Association (CAPA)\nCAPA is dedicated to promoting and advancing the sport of pickleball in south central Wisconsin\, fostering a vibrant and inclusive pickleball community. \nFor further information\, contact:\nCAPA President and tournament director Kevin McPherson\, kevinjmcpherson@gmail.com\, 608-358-3776‬ \nPS: Today\, August 8\, is National Pickleball Day.
URL:https://www.bigradio.fm/event/baird-capa-cup-2025/2025-08-16/
LOCATION:Bakken Park\, 221 Grove St.\, Cottage Grove\, WI\, 53527\, 221 Grove St.\, Cottage Grove\, WI\, 53527\, United States
CATEGORIES:Event
ORGANIZER;CN="Capital%20Area%20Pickleball%20Association":MAILTO:RichardSRussell@tds.net
END:VEVENT
BEGIN:VEVENT
DTSTART;TZID=America/Chicago:20250815T080000
DTEND;TZID=America/Chicago:20250815T210000
DTSTAMP:20260423T034558
CREATED:20250808T164835Z
LAST-MODIFIED:20250808T164835Z
UID:126222-1755244800-1755291600@www.bigradio.fm
SUMMARY:Baird CAPA Cup 2025
DESCRIPTION:For Immediate Release • 2025 August 8\n2025 CAPA CUP PICKLEBALL TOURNAMENT AT BAKKEN PARK IN COTTAGE GROVE \nMADISON — Over 400 entrants will enjoy three days of friendly pickleball competition\, August 15-17\, in the 3rd Annual Baird CAPA Cup Tournament\, to be held at Bakken Park in Cottage Grove. Pickleball is the nation’s fastest-growing sport\, and that enthusiasm level is evidenced by tournament participants more than doubling since the first CAPA Cup in 2023. \nThe tournament is organized by the Capital Area Pickleball Association (CAPA) with generous financial support from Baird Wealth Management. Proceeds from the tournament will be donated to Boys and Girls Clubs of Dane County. \nThe tournament will have four sessions each day\, from 8 in the morning until 9 at night\, and each session will feature at least two brackets of competition. Brackets are based on skill level\, with men’s\, women’s\, and mixed-gender categories. There are also brackets for players over age 70 and\, a first this year\, for parent-child teammates. Spectators and media coverage are welcome. \nCAPA President and tournament director Kevin McPherson said “Pickleball is well known as a sport that’s easy to learn and fun to play with a friendly\, welcoming atmosphere. An added bonus for our members is the chance to compete at events like our annual tournament. Baird is a fantastic partner that is all-in on pickleball at both the national and local levels.” \nBaird Director and Branch Manager Chris Yesbeck said “Baird is proud to support the CAPA Cup and the local organizations it benefits. Events like this strengthen our community by bringing people together and giving back in meaningful ways.” \nAbout Capital Area Pickleball Association (CAPA)\nCAPA is dedicated to promoting and advancing the sport of pickleball in south central Wisconsin\, fostering a vibrant and inclusive pickleball community. \nFor further information\, contact:\nCAPA President and tournament director Kevin McPherson\, kevinjmcpherson@gmail.com\, 608-358-3776‬ \nPS: Today\, August 8\, is National Pickleball Day.
URL:https://www.bigradio.fm/event/baird-capa-cup-2025/2025-08-15/
LOCATION:Bakken Park\, 221 Grove St.\, Cottage Grove\, WI\, 53527\, 221 Grove St.\, Cottage Grove\, WI\, 53527\, United States
CATEGORIES:Event
ORGANIZER;CN="Capital%20Area%20Pickleball%20Association":MAILTO:RichardSRussell@tds.net
END:VEVENT
END:VCALENDAR